BEGIN:VCALENDAR
VERSION:2.0
PRODID:-//Za šume bez vatre / For forests without fire - ECPv6.15.20//NONSGML v1.0//EN
CALSCALE:GREGORIAN
METHOD:PUBLISH
X-WR-CALNAME:Za šume bez vatre / For forests without fire
X-ORIGINAL-URL:https://zasumebezvatre.ba
X-WR-CALDESC:Events for Za šume bez vatre / For forests without fire
REFRESH-INTERVAL;VALUE=DURATION:PT1H
X-Robots-Tag:noindex
X-PUBLISHED-TTL:PT1H
BEGIN:VTIMEZONE
TZID:UTC
BEGIN:STANDARD
TZOFFSETFROM:+0000
TZOFFSETTO:+0000
TZNAME:UTC
DTSTART:20220101T000000
END:STANDARD
END:VTIMEZONE
BEGIN:VEVENT
DTSTART;TZID=UTC:20231212T080000
DTEND;TZID=UTC:20231212T170000
DTSTAMP:20260423T145604
CREATED:20231206T164254Z
LAST-MODIFIED:20231206T164254Z
UID:15697-1702368000-1702400400@zasumebezvatre.ba
SUMMARY:Strengthening Wildfire Preparedness in the Context of Climate Change - Mapping Risk-Prone Areas
DESCRIPTION:Forestry and Environmental Action fea. is hosting an inspiring workshop with the aim of intensifying collaboration between the government sector and civil society\, focusing on joint efforts to reduce the risk of forest fires in the context of climate change. \nThe main focus of the workshop will be on creating an interactive GIS map of fire susceptibility in Bosnia and Herzegovina\, a process that will soon commence by the project team of the FEA organization. \nBringing together representatives from various stakeholders\, the workshop’s participatory approach will provide them with the opportunity to share opinions\, exchange knowledge\, and experiences\, contributing to the creation of a high-quality map of areas at an increased risk of forest fires. \nStay tuned as we’ll be sharing insights from the workshop directly with you!\nThe project “Joint action to reduce the increased risk of forest fires for nature and people in the context of climate change in Bosnia and Herzegovina” is implemented by FEA and funded by The Royal Norwegian Ministry of Foreign Affairs within the program SMART Balkan – Civil society for Shared Society in the Western Balkans.
URL:https://zasumebezvatre.ba/event/strengthening-wildfire-preparedness-in-the-context-of-climate-change-mapping-risk-prone-areas/
LOCATION:Forestry and Environmental Action – fea\, Podgaj 8\, 71 000 Sarajevo\, Sarajevo\, Sarajevo\, 71 000\, Bosnia and Herzegovina
CATEGORIES:Recent Events and Activities
ORGANIZER;CN="Forestry and Environmental Action - fea":MAILTO:fea@fea-bh.com
END:VEVENT
END:VCALENDAR